BEGIN:VCALENDAR
VERSION:2.0
PRODID:-//Red Hawk Golf and Resort - ECPv6.15.18//NONSGML v1.0//EN
CALSCALE:GREGORIAN
METHOD:PUBLISH
X-ORIGINAL-URL:https://www.redhawkgolfandresort.com
X-WR-CALDESC:Events for Red Hawk Golf and Resort
REFRESH-INTERVAL;VALUE=DURATION:PT1H
X-Robots-Tag:noindex
X-PUBLISHED-TTL:PT1H
BEGIN:VTIMEZONE
TZID:UTC
BEGIN:STANDARD
TZOFFSETFROM:+0000
TZOFFSETTO:+0000
TZNAME:UTC
DTSTART:20240101T000000
END:STANDARD
END:VTIMEZONE
BEGIN:VEVENT
DTSTART;TZID=UTC:20250925T180000
DTEND;TZID=UTC:20250925T210000
DTSTAMP:20260421T130657
CREATED:20250315T023412Z
LAST-MODIFIED:20250521T012755Z
UID:3180-1758823200-1758834000@www.redhawkgolfandresort.com
SUMMARY:Music on the Patio
DESCRIPTION:Gary & Terry Duo
URL:https://www.redhawkgolfandresort.com/event/music-on-the-patio-97/
END:VEVENT
END:VCALENDAR