BEGIN:VCALENDAR
VERSION:2.0
PRODID:-//Red Hawk Golf and Resort - ECPv6.15.18//NONSGML v1.0//EN
CALSCALE:GREGORIAN
METHOD:PUBLISH
X-ORIGINAL-URL:https://www.redhawkgolfandresort.com
X-WR-CALDESC:Events for Red Hawk Golf and Resort
REFRESH-INTERVAL;VALUE=DURATION:PT1H
X-Robots-Tag:noindex
X-PUBLISHED-TTL:PT1H
BEGIN:VTIMEZONE
TZID:America/Los_Angeles
BEGIN:DAYLIGHT
TZOFFSETFROM:-0800
TZOFFSETTO:-0700
TZNAME:PDT
DTSTART:20250309T100000
END:DAYLIGHT
BEGIN:STANDARD
TZOFFSETFROM:-0700
TZOFFSETTO:-0800
TZNAME:PST
DTSTART:20251102T090000
END:STANDARD
BEGIN:DAYLIGHT
TZOFFSETFROM:-0800
TZOFFSETTO:-0700
TZNAME:PDT
DTSTART:20260308T100000
END:DAYLIGHT
BEGIN:STANDARD
TZOFFSETFROM:-0700
TZOFFSETTO:-0800
TZNAME:PST
DTSTART:20261101T090000
END:STANDARD
BEGIN:DAYLIGHT
TZOFFSETFROM:-0800
TZOFFSETTO:-0700
TZNAME:PDT
DTSTART:20270314T100000
END:DAYLIGHT
BEGIN:STANDARD
TZOFFSETFROM:-0700
TZOFFSETTO:-0800
TZNAME:PST
DTSTART:20271107T090000
END:STANDARD
END:VTIMEZONE
BEGIN:VTIMEZONE
TZID:UTC
BEGIN:STANDARD
TZOFFSETFROM:+0000
TZOFFSETTO:+0000
TZNAME:UTC
DTSTART:20250101T000000
END:STANDARD
END:VTIMEZONE
BEGIN:VEVENT
DTSTART;TZID=America/Los_Angeles:20260620T180000
DTEND;TZID=America/Los_Angeles:20260620T210000
DTSTAMP:20260425T054955
CREATED:20260424T220710Z
LAST-MODIFIED:20260424T220710Z
UID:4538-1781978400-1781989200@www.redhawkgolfandresort.com
SUMMARY:Music on the Patio - David's Grill
DESCRIPTION:DD James
URL:https://www.redhawkgolfandresort.com/event/music-on-the-patio-davids-grill-15/
END:VEVENT
BEGIN:VEVENT
DTSTART;TZID=UTC:20260623T164800
DTEND;TZID=UTC:20260623T175100
DTSTAMP:20260425T054955
CREATED:20260213T053038Z
LAST-MODIFIED:20260213T053038Z
UID:4112-1782233280-1782237060@www.redhawkgolfandresort.com
SUMMARY:Spark Golf
DESCRIPTION:https://www.spark.golf/lw/MWKd
URL:https://www.redhawkgolfandresort.com/event/spark-golf-52/
END:VEVENT
BEGIN:VEVENT
DTSTART;TZID=America/Los_Angeles:20260624T200000
DTEND;TZID=America/Los_Angeles:20260624T220000
DTSTAMP:20260425T054955
CREATED:20260417T205541Z
LAST-MODIFIED:20260417T205541Z
UID:4475-1782331200-1782338400@www.redhawkgolfandresort.com
SUMMARY:Movie Nights on the Green
DESCRIPTION:Zootopia 2
URL:https://www.redhawkgolfandresort.com/event/movie-nights-on-the-green-7/
END:VEVENT
BEGIN:VEVENT
DTSTART;TZID=America/Los_Angeles:20260625T180000
DTEND;TZID=America/Los_Angeles:20260625T210000
DTSTAMP:20260425T054955
CREATED:20260424T220749Z
LAST-MODIFIED:20260424T220749Z
UID:4540-1782410400-1782421200@www.redhawkgolfandresort.com
SUMMARY:Music on the Patio - David's Grill
DESCRIPTION:William Barclay
URL:https://www.redhawkgolfandresort.com/event/music-on-the-patio-davids-grill-16/
END:VEVENT
BEGIN:VEVENT
DTSTART;TZID=America/Los_Angeles:20260626T180000
DTEND;TZID=America/Los_Angeles:20260626T210000
DTSTAMP:20260425T054955
CREATED:20260424T220824Z
LAST-MODIFIED:20260424T220824Z
UID:4542-1782496800-1782507600@www.redhawkgolfandresort.com
SUMMARY:Music on the Patio - David's Grill
DESCRIPTION:Ziggy
URL:https://www.redhawkgolfandresort.com/event/music-on-the-patio-davids-grill-17/
END:VEVENT
BEGIN:VEVENT
DTSTART;TZID=America/Los_Angeles:20260627T180000
DTEND;TZID=America/Los_Angeles:20260627T210000
DTSTAMP:20260425T054955
CREATED:20260424T220855Z
LAST-MODIFIED:20260424T220855Z
UID:4544-1782583200-1782594000@www.redhawkgolfandresort.com
SUMMARY:Music on the Patio - David's Grill
DESCRIPTION:Shay Bertz
URL:https://www.redhawkgolfandresort.com/event/music-on-the-patio-davids-grill-18/
END:VEVENT
BEGIN:VEVENT
DTSTART;TZID=UTC:20260630T164800
DTEND;TZID=UTC:20260630T175100
DTSTAMP:20260425T054955
CREATED:20260213T053134Z
LAST-MODIFIED:20260213T053134Z
UID:4114-1782838080-1782841860@www.redhawkgolfandresort.com
SUMMARY:Spark Golf
DESCRIPTION:https://www.spark.golf/lw/MWKd \n 
URL:https://www.redhawkgolfandresort.com/event/spark-golf-53/
END:VEVENT
BEGIN:VEVENT
DTSTART;TZID=UTC:20260630T164800
DTEND;TZID=UTC:20260630T175100
DTSTAMP:20260425T054955
CREATED:20260213T053221Z
LAST-MODIFIED:20260213T053221Z
UID:4116-1782838080-1782841860@www.redhawkgolfandresort.com
SUMMARY:Spark Golf
DESCRIPTION:https://www.spark.golf/lw/MWKd
URL:https://www.redhawkgolfandresort.com/event/spark-golf-54/
END:VEVENT
BEGIN:VEVENT
DTSTART;TZID=America/Los_Angeles:20260702T180000
DTEND;TZID=America/Los_Angeles:20260702T210000
DTSTAMP:20260425T054955
CREATED:20260424T220940Z
LAST-MODIFIED:20260424T220940Z
UID:4546-1783015200-1783026000@www.redhawkgolfandresort.com
SUMMARY:Music on the Patio - David's Grill
DESCRIPTION:Two Lain Hwy
URL:https://www.redhawkgolfandresort.com/event/music-on-the-patio-davids-grill-19/
END:VEVENT
BEGIN:VEVENT
DTSTART;TZID=America/Los_Angeles:20260703T180000
DTEND;TZID=America/Los_Angeles:20260703T210000
DTSTAMP:20260425T054955
CREATED:20260424T221012Z
LAST-MODIFIED:20260424T221012Z
UID:4548-1783101600-1783112400@www.redhawkgolfandresort.com
SUMMARY:Music on the Patio - David's Grill
DESCRIPTION:Two Lain Hwy
URL:https://www.redhawkgolfandresort.com/event/music-on-the-patio-davids-grill-20/
END:VEVENT
BEGIN:VEVENT
DTSTART;TZID=UTC:20260707T044800
DTEND;TZID=UTC:20260707T175100
DTSTAMP:20260425T054955
CREATED:20260213T053306Z
LAST-MODIFIED:20260213T053306Z
UID:4118-1783399680-1783446660@www.redhawkgolfandresort.com
SUMMARY:Spark Golf
DESCRIPTION:https://www.spark.golf/lw/MWKd
URL:https://www.redhawkgolfandresort.com/event/spark-golf-55/
END:VEVENT
BEGIN:VEVENT
DTSTART;TZID=America/Los_Angeles:20260709T180000
DTEND;TZID=America/Los_Angeles:20260709T210000
DTSTAMP:20260425T054955
CREATED:20260424T221048Z
LAST-MODIFIED:20260424T221048Z
UID:4550-1783620000-1783630800@www.redhawkgolfandresort.com
SUMMARY:Music on the Patio - David's Grill
DESCRIPTION:William Barclay
URL:https://www.redhawkgolfandresort.com/event/music-on-the-patio-davids-grill-21/
END:VEVENT
BEGIN:VEVENT
DTSTART;TZID=America/Los_Angeles:20260710T180000
DTEND;TZID=America/Los_Angeles:20260710T210000
DTSTAMP:20260425T054955
CREATED:20260424T221122Z
LAST-MODIFIED:20260424T221122Z
UID:4552-1783706400-1783717200@www.redhawkgolfandresort.com
SUMMARY:Music on the Patio - David's Grill
DESCRIPTION:Jason King
URL:https://www.redhawkgolfandresort.com/event/music-on-the-patio-davids-grill-22/
END:VEVENT
BEGIN:VEVENT
DTSTART;TZID=America/Los_Angeles:20260711T180000
DTEND;TZID=America/Los_Angeles:20260711T210000
DTSTAMP:20260425T054955
CREATED:20260424T221155Z
LAST-MODIFIED:20260424T221155Z
UID:4554-1783792800-1783803600@www.redhawkgolfandresort.com
SUMMARY:Music on the Patio - David's Grill
DESCRIPTION:Ziggy
URL:https://www.redhawkgolfandresort.com/event/music-on-the-patio-davids-grill-23/
END:VEVENT
BEGIN:VEVENT
DTSTART;TZID=UTC:20260714T164800
DTEND;TZID=UTC:20260714T175100
DTSTAMP:20260425T054955
CREATED:20260213T053350Z
LAST-MODIFIED:20260213T053350Z
UID:4120-1784047680-1784051460@www.redhawkgolfandresort.com
SUMMARY:Spark Golf
DESCRIPTION:https://www.spark.golf/lw/MWKd
URL:https://www.redhawkgolfandresort.com/event/spark-golf-56/
END:VEVENT
BEGIN:VEVENT
DTSTART;TZID=America/Los_Angeles:20260715T200000
DTEND;TZID=America/Los_Angeles:20260715T220000
DTSTAMP:20260425T054955
CREATED:20260417T205705Z
LAST-MODIFIED:20260417T205705Z
UID:4478-1784145600-1784152800@www.redhawkgolfandresort.com
SUMMARY:Movie Nights on the Green
DESCRIPTION:Lilo & Stitch (2025)
URL:https://www.redhawkgolfandresort.com/event/movie-nights-on-the-green-8/
END:VEVENT
BEGIN:VEVENT
DTSTART;TZID=America/Los_Angeles:20260716T180000
DTEND;TZID=America/Los_Angeles:20260716T210000
DTSTAMP:20260425T054955
CREATED:20260424T221233Z
LAST-MODIFIED:20260424T221233Z
UID:4556-1784224800-1784235600@www.redhawkgolfandresort.com
SUMMARY:Music on the Patio - David's Grill
DESCRIPTION:Dominic Pieranunzio
URL:https://www.redhawkgolfandresort.com/event/music-on-the-patio-davids-grill-24/
END:VEVENT
BEGIN:VEVENT
DTSTART;TZID=America/Los_Angeles:20260717T180000
DTEND;TZID=America/Los_Angeles:20260717T210000
DTSTAMP:20260425T054955
CREATED:20260424T221310Z
LAST-MODIFIED:20260424T221310Z
UID:4558-1784311200-1784322000@www.redhawkgolfandresort.com
SUMMARY:Music on the Patio - David's Grill
DESCRIPTION:Steve Lord
URL:https://www.redhawkgolfandresort.com/event/music-on-the-patio-davids-grill-25/
END:VEVENT
BEGIN:VEVENT
DTSTART;TZID=America/Los_Angeles:20260718T180000
DTEND;TZID=America/Los_Angeles:20260718T210000
DTSTAMP:20260425T054955
CREATED:20260424T221344Z
LAST-MODIFIED:20260424T221344Z
UID:4560-1784397600-1784408400@www.redhawkgolfandresort.com
SUMMARY:Music on the Patio - David's Grill
DESCRIPTION:Henri Allen
URL:https://www.redhawkgolfandresort.com/event/music-on-the-patio-davids-grill-26/
END:VEVENT
BEGIN:VEVENT
DTSTART;TZID=UTC:20260721T164800
DTEND;TZID=UTC:20260721T175100
DTSTAMP:20260425T054955
CREATED:20260213T053444Z
LAST-MODIFIED:20260213T053444Z
UID:4122-1784652480-1784656260@www.redhawkgolfandresort.com
SUMMARY:Spark Golf
DESCRIPTION:https://www.spark.golf/lw/MWKd
URL:https://www.redhawkgolfandresort.com/event/spark-golf-57/
END:VEVENT
BEGIN:VEVENT
DTSTART;TZID=America/Los_Angeles:20260723T180000
DTEND;TZID=America/Los_Angeles:20260723T210000
DTSTAMP:20260425T054955
CREATED:20260424T221446Z
LAST-MODIFIED:20260424T221446Z
UID:4562-1784829600-1784840400@www.redhawkgolfandresort.com
SUMMARY:Music on the Patio - David's Grill
DESCRIPTION:Dan Caraker
URL:https://www.redhawkgolfandresort.com/event/music-on-the-patio-davids-grill-27/
END:VEVENT
BEGIN:VEVENT
DTSTART;TZID=America/Los_Angeles:20260724T170000
DTEND;TZID=America/Los_Angeles:20260724T200000
DTSTAMP:20260425T054955
CREATED:20260403T182225Z
LAST-MODIFIED:20260403T182225Z
UID:4376-1784912400-1784923200@www.redhawkgolfandresort.com
SUMMARY:Nine\, Wine and Dine
DESCRIPTION:CLICK HERE to book your spot now!
URL:https://www.redhawkgolfandresort.com/event/nine-wine-and-dine-2/
END:VEVENT
BEGIN:VEVENT
DTSTART;TZID=America/Los_Angeles:20260724T180000
DTEND;TZID=America/Los_Angeles:20260724T210000
DTSTAMP:20260425T054955
CREATED:20260424T221516Z
LAST-MODIFIED:20260424T221516Z
UID:4564-1784916000-1784926800@www.redhawkgolfandresort.com
SUMMARY:Music on the Patio - David's Grill
DESCRIPTION:Jamie Rollins
URL:https://www.redhawkgolfandresort.com/event/music-on-the-patio-davids-grill-28/
END:VEVENT
BEGIN:VEVENT
DTSTART;TZID=America/Los_Angeles:20260725T180000
DTEND;TZID=America/Los_Angeles:20260725T210000
DTSTAMP:20260425T054955
CREATED:20260424T221550Z
LAST-MODIFIED:20260424T221550Z
UID:4566-1785002400-1785013200@www.redhawkgolfandresort.com
SUMMARY:Music on the Patio - David's Grill
DESCRIPTION:Darcy Dellavella
URL:https://www.redhawkgolfandresort.com/event/music-on-the-patio-davids-grill-29/
END:VEVENT
BEGIN:VEVENT
DTSTART;TZID=UTC:20260728T164100
DTEND;TZID=UTC:20260728T175100
DTSTAMP:20260425T054955
CREATED:20260213T053531Z
LAST-MODIFIED:20260213T053531Z
UID:4124-1785256860-1785261060@www.redhawkgolfandresort.com
SUMMARY:Spark Golf
DESCRIPTION:https://www.spark.golf/lw/MWKd
URL:https://www.redhawkgolfandresort.com/event/spark-golf-58/
END:VEVENT
BEGIN:VEVENT
DTSTART;TZID=America/Los_Angeles:20260730T180000
DTEND;TZID=America/Los_Angeles:20260730T210000
DTSTAMP:20260425T054955
CREATED:20260424T221623Z
LAST-MODIFIED:20260424T221623Z
UID:4568-1785434400-1785445200@www.redhawkgolfandresort.com
SUMMARY:Music on the Patio - David's Grill
DESCRIPTION:John Palmore
URL:https://www.redhawkgolfandresort.com/event/music-on-the-patio-davids-grill-30/
END:VEVENT
BEGIN:VEVENT
DTSTART;TZID=America/Los_Angeles:20260731T180000
DTEND;TZID=America/Los_Angeles:20260731T210000
DTSTAMP:20260425T054955
CREATED:20260424T221650Z
LAST-MODIFIED:20260424T221650Z
UID:4570-1785520800-1785531600@www.redhawkgolfandresort.com
SUMMARY:Music on the Patio - David's Grill
DESCRIPTION:DD James
URL:https://www.redhawkgolfandresort.com/event/music-on-the-patio-davids-grill-31/
END:VEVENT
BEGIN:VEVENT
DTSTART;TZID=America/Los_Angeles:20260801T180000
DTEND;TZID=America/Los_Angeles:20260801T210000
DTSTAMP:20260425T054955
CREATED:20260424T221724Z
LAST-MODIFIED:20260424T221724Z
UID:4572-1785607200-1785618000@www.redhawkgolfandresort.com
SUMMARY:Music on the Patio - David's Grill
DESCRIPTION:Shay Bertz
URL:https://www.redhawkgolfandresort.com/event/music-on-the-patio-davids-grill-32/
END:VEVENT
BEGIN:VEVENT
DTSTART;TZID=UTC:20260804T164100
DTEND;TZID=UTC:20260804T175100
DTSTAMP:20260425T054955
CREATED:20260213T053613Z
LAST-MODIFIED:20260213T053613Z
UID:4126-1785861660-1785865860@www.redhawkgolfandresort.com
SUMMARY:Spark Golf
DESCRIPTION:https://www.spark.golf/lw/MWKd
URL:https://www.redhawkgolfandresort.com/event/spark-golf-59/
END:VEVENT
BEGIN:VEVENT
DTSTART;TZID=America/Los_Angeles:20260805T200000
DTEND;TZID=America/Los_Angeles:20260805T220000
DTSTAMP:20260425T054955
CREATED:20260417T205825Z
LAST-MODIFIED:20260417T205847Z
UID:4481-1785960000-1785967200@www.redhawkgolfandresort.com
SUMMARY:Movie Nights on the Green
DESCRIPTION:The Super Mario Galaxy Movie
URL:https://www.redhawkgolfandresort.com/event/movie-nights-on-the-green-9/
END:VEVENT
END:VCALENDAR