BEGIN:VCALENDAR
VERSION:2.0
PRODID:-//Red Hawk Golf and Resort - ECPv6.15.18//NONSGML v1.0//EN
CALSCALE:GREGORIAN
METHOD:PUBLISH
X-ORIGINAL-URL:https://www.redhawkgolfandresort.com
X-WR-CALDESC:Events for Red Hawk Golf and Resort
REFRESH-INTERVAL;VALUE=DURATION:PT1H
X-Robots-Tag:noindex
X-PUBLISHED-TTL:PT1H
BEGIN:VTIMEZONE
TZID:UTC
BEGIN:STANDARD
TZOFFSETFROM:+0000
TZOFFSETTO:+0000
TZNAME:UTC
DTSTART:20230101T000000
END:STANDARD
END:VTIMEZONE
BEGIN:VEVENT
DTSTART;TZID=UTC:20240626T200000
DTEND;TZID=UTC:20240626T220000
DTSTAMP:20260420T040852
CREATED:20240510T044645Z
LAST-MODIFIED:20240619T064321Z
UID:1579-1719432000-1719439200@www.redhawkgolfandresort.com
SUMMARY:Movie Nights on the Green
DESCRIPTION:  \n\nShowing- Minions: The Rise of Gru\nOpen to the public\, and free to attend\nMovie will start between 8pm-8:30pm\nDavid’s Express will be OPEN serving food and drinks\nBring a blanket or chairs!
URL:https://www.redhawkgolfandresort.com/event/movie-nights-on-the-green/
END:VEVENT
END:VCALENDAR