BEGIN:VCALENDAR
VERSION:2.0
PRODID:-//Red Hawk Golf and Resort - ECPv6.15.18//NONSGML v1.0//EN
CALSCALE:GREGORIAN
METHOD:PUBLISH
X-WR-CALNAME:Red Hawk Golf and Resort
X-ORIGINAL-URL:https://www.redhawkgolfandresort.com
X-WR-CALDESC:Events for Red Hawk Golf and Resort
REFRESH-INTERVAL;VALUE=DURATION:PT1H
X-Robots-Tag:noindex
X-PUBLISHED-TTL:PT1H
BEGIN:VTIMEZONE
TZID:UTC
BEGIN:STANDARD
TZOFFSETFROM:+0000
TZOFFSETTO:+0000
TZNAME:UTC
DTSTART:20240101T000000
END:STANDARD
END:VTIMEZONE
BEGIN:VEVENT
DTSTART;TZID=UTC:20251002T180000
DTEND;TZID=UTC:20251002T210000
DTSTAMP:20260421T085845
CREATED:20250315T023543Z
LAST-MODIFIED:20250521T012027Z
UID:3186-1759428000-1759438800@www.redhawkgolfandresort.com
SUMMARY:Music on the Patio
DESCRIPTION:Jason King
URL:https://www.redhawkgolfandresort.com/event/music-on-the-patio-100/
END:VEVENT
BEGIN:VEVENT
DTSTART;TZID=UTC:20251003T180000
DTEND;TZID=UTC:20251003T210000
DTSTAMP:20260421T085845
CREATED:20250315T023622Z
LAST-MODIFIED:20250521T012011Z
UID:3188-1759514400-1759525200@www.redhawkgolfandresort.com
SUMMARY:Music on the Patio
DESCRIPTION:Dominic Pieranunzio
URL:https://www.redhawkgolfandresort.com/event/music-on-the-patio-101/
END:VEVENT
BEGIN:VEVENT
DTSTART;TZID=UTC:20251004T180000
DTEND;TZID=UTC:20251004T210000
DTSTAMP:20260421T085845
CREATED:20250315T023650Z
LAST-MODIFIED:20250521T011903Z
UID:3190-1759600800-1759611600@www.redhawkgolfandresort.com
SUMMARY:Music on the Patio
DESCRIPTION:Ziggy
URL:https://www.redhawkgolfandresort.com/event/music-on-the-patio-102/
END:VEVENT
BEGIN:VEVENT
DTSTART;TZID=UTC:20251007T161200
DTEND;TZID=UTC:20251007T163000
DTSTAMP:20260421T085845
CREATED:20250204T073832Z
LAST-MODIFIED:20250205T053128Z
UID:2899-1759853520-1759854600@www.redhawkgolfandresort.com
SUMMARY:Spark Golf
DESCRIPTION:For more information and for sign-ups\, click the link below. \nhttps://www.spark.golf/golf-leagues/red-hawk-golf-and-resort-sparks-nv-W15E2KFBCP?league_id=8S0A2BKOU3
URL:https://www.redhawkgolfandresort.com/event/spark-golf-32/
END:VEVENT
BEGIN:VEVENT
DTSTART;TZID=UTC:20251009T180000
DTEND;TZID=UTC:20251009T210000
DTSTAMP:20260421T085845
CREATED:20250315T023717Z
LAST-MODIFIED:20250521T011832Z
UID:3192-1760032800-1760043600@www.redhawkgolfandresort.com
SUMMARY:Music on the Patio
DESCRIPTION:Jamie Rollins
URL:https://www.redhawkgolfandresort.com/event/music-on-the-patio-103/
END:VEVENT
BEGIN:VEVENT
DTSTART;TZID=UTC:20251010T180000
DTEND;TZID=UTC:20251010T210000
DTSTAMP:20260421T085845
CREATED:20250315T023751Z
LAST-MODIFIED:20250521T011751Z
UID:3194-1760119200-1760130000@www.redhawkgolfandresort.com
SUMMARY:Music on the Patio
DESCRIPTION:Darcy Dellavella
URL:https://www.redhawkgolfandresort.com/event/music-on-the-patio-104/
END:VEVENT
BEGIN:VEVENT
DTSTART;TZID=UTC:20251011T180000
DTEND;TZID=UTC:20251011T210000
DTSTAMP:20260421T085845
CREATED:20250315T023825Z
LAST-MODIFIED:20250521T011718Z
UID:3196-1760205600-1760216400@www.redhawkgolfandresort.com
SUMMARY:Music on the Patio
DESCRIPTION:DD James
URL:https://www.redhawkgolfandresort.com/event/music-on-the-patio-105/
END:VEVENT
BEGIN:VEVENT
DTSTART;TZID=UTC:20251014T160300
DTEND;TZID=UTC:20251014T162100
DTSTAMP:20260421T085845
CREATED:20250204T073859Z
LAST-MODIFIED:20250205T053154Z
UID:2901-1760457780-1760458860@www.redhawkgolfandresort.com
SUMMARY:Spark Golf
DESCRIPTION:For more information and for sign-ups\, click the link below. \nhttps://www.spark.golf/golf-leagues/red-hawk-golf-and-resort-sparks-nv-W15E2KFBCP?league_id=8S0A2BKOU3
URL:https://www.redhawkgolfandresort.com/event/spark-golf-33/
END:VEVENT
BEGIN:VEVENT
DTSTART;TZID=UTC:20251021T155400
DTEND;TZID=UTC:20251021T161200
DTSTAMP:20260421T085845
CREATED:20250204T073923Z
LAST-MODIFIED:20250205T053215Z
UID:2903-1761062040-1761063120@www.redhawkgolfandresort.com
SUMMARY:Spark Golf
DESCRIPTION:For more information and for sign-ups\, click the link below. \nhttps://www.spark.golf/golf-leagues/red-hawk-golf-and-resort-sparks-nv-W15E2KFBCP?league_id=8S0A2BKOU3
URL:https://www.redhawkgolfandresort.com/event/spark-golf-34/
END:VEVENT
BEGIN:VEVENT
DTSTART;TZID=UTC:20251024T163000
DTEND;TZID=UTC:20251024T210000
DTSTAMP:20260421T085845
CREATED:20250312T063926Z
LAST-MODIFIED:20250312T063926Z
UID:3054-1761323400-1761339600@www.redhawkgolfandresort.com
SUMMARY:Nine\, Wine\, & Dine
DESCRIPTION:https://www.tripsee.travel/merchant/site/index.php?ref=RedHawkGolfandResort-Nine\,Wine\,andDine7 \nFor any questions or further information\, please contact Dillon Brewer at dbrewer@resortatredhawk.com or call 775-626-4599
URL:https://www.redhawkgolfandresort.com/event/nine-wine-dine-7/
END:VEVENT
BEGIN:VEVENT
DTSTART;TZID=UTC:20251028T154500
DTEND;TZID=UTC:20251028T160300
DTSTAMP:20260421T085845
CREATED:20250204T073958Z
LAST-MODIFIED:20250205T053232Z
UID:2905-1761666300-1761667380@www.redhawkgolfandresort.com
SUMMARY:Spark Golf
DESCRIPTION:For more information and for sign-ups\, click the link below. \nhttps://www.spark.golf/golf-leagues/red-hawk-golf-and-resort-sparks-nv-W15E2KFBCP?league_id=8S0A2BKOU3
URL:https://www.redhawkgolfandresort.com/event/spark-golf-35/
END:VEVENT
BEGIN:VEVENT
DTSTART;TZID=UTC:20251029T160000
DTEND;TZID=UTC:20251029T180000
DTSTAMP:20260421T085845
CREATED:20250830T015411Z
LAST-MODIFIED:20250830T015411Z
UID:3701-1761753600-1761760800@www.redhawkgolfandresort.com
SUMMARY:Trick or Treat Event
DESCRIPTION:
URL:https://www.redhawkgolfandresort.com/event/trick-or-treat-event-3/
END:VEVENT
END:VCALENDAR